BEGIN:VCALENDAR
VERSION:2.0
PRODID:-//Dutch Aikikai Foundation - ECPv4.9.6//NONSGML v1.0//EN
CALSCALE:GREGORIAN
METHOD:PUBLISH
X-WR-CALNAME:Dutch Aikikai Foundation
X-ORIGINAL-URL:https://dutchaikikaifoundation.nl
X-WR-CALDESC:Events for Dutch Aikikai Foundation
BEGIN:VTIMEZONE
TZID:"Europe/Amsterdam"
BEGIN:DAYLIGHT
TZOFFSETFROM:+0100
TZOFFSETTO:+0200
TZNAME:CEST
DTSTART:20200329T010000
END:DAYLIGHT
BEGIN:STANDARD
TZOFFSETFROM:+0200
TZOFFSETTO:+0100
TZNAME:CET
DTSTART:20201025T010000
END:STANDARD
END:VTIMEZONE
BEGIN:VEVENT
DTSTART;VALUE=DATE:20200717
DTEND;VALUE=DATE:20200720
DTSTAMP:20260423T090941
CREATED:20200627T120614Z
LAST-MODIFIED:20200627T120614Z
UID:1803-1594944000-1595203199@dutchaikikaifoundation.nl
SUMMARY:DAF zomerschool 2020
DESCRIPTION:DAF zomerschool 2020
URL:https://dutchaikikaifoundation.nl/agenda/daf-zomerschool-2020/
LOCATION:sporthal markelo\, Stationsstraat 30\, Markelo\, Noord Holland\, 7475 AM\, Nederland
CATEGORIES:Nationaal stage
ATTACH;FMTTYPE=image/png:https://dutchaikikaifoundation.nl/wp-content/uploads/2020/06/SUMMER-SCHOOL-DAF2020.png
END:VEVENT
END:VCALENDAR