BEGIN:VCALENDAR
VERSION:2.0
PRODID:-//Dutch Aikikai Foundation - ECPv4.9.6//NONSGML v1.0//EN
CALSCALE:GREGORIAN
METHOD:PUBLISH
X-WR-CALNAME:Dutch Aikikai Foundation
X-ORIGINAL-URL:https://dutchaikikaifoundation.nl
X-WR-CALDESC:Events for Dutch Aikikai Foundation
BEGIN:VTIMEZONE
TZID:"Europe/Amsterdam"
BEGIN:DAYLIGHT
TZOFFSETFROM:+0100
TZOFFSETTO:+0200
TZNAME:CEST
DTSTART:20190331T010000
END:DAYLIGHT
BEGIN:STANDARD
TZOFFSETFROM:+0200
TZOFFSETTO:+0100
TZNAME:CET
DTSTART:20191027T010000
END:STANDARD
END:VTIMEZONE
BEGIN:VEVENT
DTSTART;TZID="Europe/Amsterdam":20190726T160000
DTEND;TZID="Europe/Amsterdam":20190728T170000
DTSTAMP:20260420T201744
CREATED:20190227T093021Z
LAST-MODIFIED:20190513T092138Z
UID:1604-1564156800-1564333200@dutchaikikaifoundation.nl
SUMMARY:Dojocho.NL
DESCRIPTION:60 jaar Aikikai Aikido in Nederland. \n  \n  \nDojocho.NL
URL:https://dutchaikikaifoundation.nl/agenda/dojocho-nl/
LOCATION:Topsportcentrum Almere\, Pierre de Coubertinplein 4\, Almere\, 1362 LB
CATEGORIES:Nationaal stage
ATTACH;FMTTYPE=image/jpeg:https://dutchaikikaifoundation.nl/wp-content/uploads/2019/02/51562005_10156928695453446_7100519309037797376_n.jpg
END:VEVENT
END:VCALENDAR