BEGIN:VCALENDAR
VERSION:2.0
PRODID:-//Dutch Aikikai Foundation - ECPv4.9.6//NONSGML v1.0//EN
CALSCALE:GREGORIAN
METHOD:PUBLISH
X-WR-CALNAME:Dutch Aikikai Foundation
X-ORIGINAL-URL:https://dutchaikikaifoundation.nl
X-WR-CALDESC:Events for Dutch Aikikai Foundation
BEGIN:VTIMEZONE
TZID:"Europe/Amsterdam"
BEGIN:DAYLIGHT
TZOFFSETFROM:+0100
TZOFFSETTO:+0200
TZNAME:CEST
DTSTART:20240331T010000
END:DAYLIGHT
BEGIN:STANDARD
TZOFFSETFROM:+0200
TZOFFSETTO:+0100
TZNAME:CET
DTSTART:20241027T010000
END:STANDARD
END:VTIMEZONE
BEGIN:VEVENT
DTSTART;TZID="Europe/Amsterdam":20240509T100000
DTEND;TZID="Europe/Amsterdam":20240509T120000
DTSTAMP:20260424T081504
CREATED:20240416T123354Z
LAST-MODIFIED:20240416T123354Z
UID:2365-1715248800-1715256000@dutchaikikaifoundation.nl
SUMMARY:Hemelvaartstage Satomi Ishikawa
DESCRIPTION:Hemelvaartstage Satomi Ishikawa
URL:https://dutchaikikaifoundation.nl/agenda/hemelvaartstage-satomi-ishikawa/
CATEGORIES:Regionaal stage
ATTACH;FMTTYPE=image/png:https://dutchaikikaifoundation.nl/wp-content/uploads/2024/04/Hemelvaartstage-Satomi.png
END:VEVENT
END:VCALENDAR