BEGIN:VCALENDAR
VERSION:2.0
PRODID:-//Dutch Aikikai Foundation - ECPv4.9.6//NONSGML v1.0//EN
CALSCALE:GREGORIAN
METHOD:PUBLISH
X-WR-CALNAME:Dutch Aikikai Foundation
X-ORIGINAL-URL:https://dutchaikikaifoundation.nl
X-WR-CALDESC:Events for Dutch Aikikai Foundation
BEGIN:VTIMEZONE
TZID:"Europe/Amsterdam"
BEGIN:DAYLIGHT
TZOFFSETFROM:+0100
TZOFFSETTO:+0200
TZNAME:CEST
DTSTART:20190331T010000
END:DAYLIGHT
BEGIN:STANDARD
TZOFFSETFROM:+0200
TZOFFSETTO:+0100
TZNAME:CET
DTSTART:20191027T010000
END:STANDARD
END:VTIMEZONE
BEGIN:VEVENT
DTSTART;TZID="Europe/Amsterdam":20191019T100000
DTEND;TZID="Europe/Amsterdam":20191020T170000
DTSTAMP:20260423T090418
CREATED:20190903T084912Z
LAST-MODIFIED:20190903T084912Z
UID:1701-1571479200-1571590800@dutchaikikaifoundation.nl
SUMMARY:Herfstschool DAF "Doorwerken: een fysieke en mentale uitdaging"
DESCRIPTION:Voor de tweede keer organiseren we de DAF Herfstschool in Alphen aan de Rijn met de vier docenten Joop Leduc\, Tom Dijkman\, Sachien Raghoe en Caroline Bied-Charreton. Dit weekend is geschikt voor alle niveaus dus ook voor diegenen die nog nooit buiten de eigen dojo een stage hebben gevolgd. Wij willen jullie van harte uitnodigen! \nHet gemeenschappelijke thema van dit jaar is: “doorwerken: een fysieke en mentale uitdaging”. De fysieke uitdaging is: kun je een werktempo vinden dat je kunt volhouden? De mentale uitdaging is: kun je stil zijn en de gedachten en emoties die in je opkomen tijdens de training voor je houden? Je herkent hier misschien iets meditatiefs in. Tegelijkertijd is het heel concreet. Doorwerken en veel herhalen geeft je lijf de gelegenheid om het je echt eigen te maken. \nIn verschillende oefeningen zullen we hier aandacht aan besteden en je laten ervaren hoe lekker (en verslavend!) doorwerken kan zijn en wat het je kan opleveren. \nDoorwerken is een werkhouding die je aikido enorm kan verdiepen. Een stage is altijd bedoeld om je te inspireren zodat je dat mee kunt nemen naar huis en daar verder mee aan de slag kunt gaan. Van harte welkom dus. \nHerfstschool DAF “Doorwerken: een fysieke en mentale uitdaging”
URL:https://dutchaikikaifoundation.nl/agenda/herfstschool-daf-doorwerken-een-fysieke-en-mentale-uitdaging/
LOCATION:Aikido Alphen\, Henry Dunantweg 11 (OBS Op Maat)\, Alphen aan den Rijn\, 2402NM\, Nederland
CATEGORIES:Nationaal stage
ATTACH;FMTTYPE=image/png:https://dutchaikikaifoundation.nl/wp-content/uploads/2019/09/Schermafbeelding-2019-09-02-om-12.58.36.png
END:VEVENT
END:VCALENDAR