BEGIN:VCALENDAR
VERSION:2.0
PRODID:-//Dutch Aikikai Foundation - ECPv4.9.6//NONSGML v1.0//EN
CALSCALE:GREGORIAN
METHOD:PUBLISH
X-WR-CALNAME:Dutch Aikikai Foundation
X-ORIGINAL-URL:https://dutchaikikaifoundation.nl
X-WR-CALDESC:Events for Dutch Aikikai Foundation
BEGIN:VTIMEZONE
TZID:"Europe/Amsterdam"
BEGIN:DAYLIGHT
TZOFFSETFROM:+0100
TZOFFSETTO:+0200
TZNAME:CEST
DTSTART:20180325T010000
END:DAYLIGHT
BEGIN:STANDARD
TZOFFSETFROM:+0200
TZOFFSETTO:+0100
TZNAME:CET
DTSTART:20181028T010000
END:STANDARD
END:VTIMEZONE
BEGIN:VEVENT
DTSTART;TZID="Europe/Amsterdam":20180415T100000
DTEND;TZID="Europe/Amsterdam":20180415T130000
DTSTAMP:20260420T215327
CREATED:20180128T103256Z
LAST-MODIFIED:20180128T103256Z
UID:621-1523786400-1523797200@dutchaikikaifoundation.nl
SUMMARY:Jeugd Examenstage
DESCRIPTION:Jeugd Examenstage
URL:https://dutchaikikaifoundation.nl/agenda/jeugd-examenstage/
LOCATION:Veemarkt 151\, Veemarkt 151\, Amsterdam\, Noord-Holland\, 1019CC\, Nederland
END:VEVENT
END:VCALENDAR