BEGIN:VCALENDAR
VERSION:2.0
PRODID:-//Dutch Aikikai Foundation - ECPv4.9.6//NONSGML v1.0//EN
CALSCALE:GREGORIAN
METHOD:PUBLISH
X-WR-CALNAME:Dutch Aikikai Foundation
X-ORIGINAL-URL:https://dutchaikikaifoundation.nl
X-WR-CALDESC:Events for Dutch Aikikai Foundation
BEGIN:VTIMEZONE
TZID:"Europe/Amsterdam"
BEGIN:DAYLIGHT
TZOFFSETFROM:+0100
TZOFFSETTO:+0200
TZNAME:CEST
DTSTART:20200329T010000
END:DAYLIGHT
BEGIN:STANDARD
TZOFFSETFROM:+0200
TZOFFSETTO:+0100
TZNAME:CET
DTSTART:20201025T010000
END:STANDARD
END:VTIMEZONE
BEGIN:VEVENT
DTSTART;TZID="Europe/Amsterdam":20201017T100000
DTEND;TZID="Europe/Amsterdam":20201017T123000
DTSTAMP:20260419T223237
CREATED:20201009T141438Z
LAST-MODIFIED:20201009T141723Z
UID:1863-1602928800-1602937800@dutchaikikaifoundation.nl
SUMMARY:Jeugd stage - SkillAi Kids Event
DESCRIPTION: \nDownload poster in pdf \nJeugd stage – SkillAi Kids Event
URL:https://dutchaikikaifoundation.nl/agenda/jeugd-stage-skillai-kids-event/
LOCATION:papendal hal west
CATEGORIES:Nationaal stage
ATTACH;FMTTYPE=image/jpeg:https://dutchaikikaifoundation.nl/wp-content/uploads/2020/10/Poster-Kids-Event-October-17-2020-scaled.jpg
END:VEVENT
END:VCALENDAR