BEGIN:VCALENDAR
VERSION:2.0
PRODID:-//Dutch Aikikai Foundation - ECPv4.9.6//NONSGML v1.0//EN
CALSCALE:GREGORIAN
METHOD:PUBLISH
X-WR-CALNAME:Dutch Aikikai Foundation
X-ORIGINAL-URL:https://dutchaikikaifoundation.nl
X-WR-CALDESC:Events for Dutch Aikikai Foundation
BEGIN:VTIMEZONE
TZID:"Europe/Amsterdam"
BEGIN:DAYLIGHT
TZOFFSETFROM:+0100
TZOFFSETTO:+0200
TZNAME:CEST
DTSTART:20180325T010000
END:DAYLIGHT
BEGIN:STANDARD
TZOFFSETFROM:+0200
TZOFFSETTO:+0100
TZNAME:CET
DTSTART:20181028T010000
END:STANDARD
END:VTIMEZONE
BEGIN:VEVENT
DTSTART;TZID="Europe/Amsterdam":20180128T100000
DTEND;TZID="Europe/Amsterdam":20180128T120000
DTSTAMP:20260424T154522
CREATED:20180126T095559Z
LAST-MODIFIED:20180126T095714Z
UID:546-1517133600-1517140800@dutchaikikaifoundation.nl
SUMMARY:Kobayashi shihan
DESCRIPTION:Stage Kobayashi Shihan Hombu Dojo 7e Dan\nZondag 28 januari : \n10:00 – 12:00 \nAN leden: \n€30\,- hele stage \n€25\,- dag \n€15\,- dagdeel \nNiet leden: \n€50\,- hele stage \n€40\,- dag \n€20\,- dagdeel \nKINDEREN ( vanaf 8+) EN JEUGD GRATIS \nKobayashi shihan
URL:https://dutchaikikaifoundation.nl/agenda/kobayashi-shihan-2/
LOCATION:Ruskahal Papendal\, Papendallaan\, Arnhem\, 6816 VD\, Nederland
END:VEVENT
END:VCALENDAR