BEGIN:VCALENDAR
VERSION:2.0
PRODID:-//Dutch Aikikai Foundation - ECPv4.9.6//NONSGML v1.0//EN
CALSCALE:GREGORIAN
METHOD:PUBLISH
X-WR-CALNAME:Dutch Aikikai Foundation
X-ORIGINAL-URL:https://dutchaikikaifoundation.nl
X-WR-CALDESC:Events for Dutch Aikikai Foundation
BEGIN:VTIMEZONE
TZID:"Europe/Amsterdam"
BEGIN:DAYLIGHT
TZOFFSETFROM:+0100
TZOFFSETTO:+0200
TZNAME:CEST
DTSTART:20180325T010000
END:DAYLIGHT
BEGIN:STANDARD
TZOFFSETFROM:+0200
TZOFFSETTO:+0100
TZNAME:CET
DTSTART:20181028T010000
END:STANDARD
END:VTIMEZONE
BEGIN:VEVENT
DTSTART;VALUE=DATE:20180325
DTEND;VALUE=DATE:20180326
DTSTAMP:20260423T122533
CREATED:20180128T101622Z
LAST-MODIFIED:20180128T101622Z
UID:603-1521936000-1522022399@dutchaikikaifoundation.nl
SUMMARY:Lenteschool 2018 olv Marc Jongsten
DESCRIPTION:Lenteschool 2018 olv Marc Jongsten
URL:https://dutchaikikaifoundation.nl/agenda/lenteschool-2018-olv-marc-jongsten-2/
END:VEVENT
END:VCALENDAR