BEGIN:VCALENDAR
VERSION:2.0
PRODID:-//Dutch Aikikai Foundation - ECPv4.9.6//NONSGML v1.0//EN
CALSCALE:GREGORIAN
METHOD:PUBLISH
X-WR-CALNAME:Dutch Aikikai Foundation
X-ORIGINAL-URL:https://dutchaikikaifoundation.nl
X-WR-CALDESC:Events for Dutch Aikikai Foundation
BEGIN:VTIMEZONE
TZID:"Europe/Amsterdam"
BEGIN:DAYLIGHT
TZOFFSETFROM:+0100
TZOFFSETTO:+0200
TZNAME:CEST
DTSTART:20240331T010000
END:DAYLIGHT
BEGIN:STANDARD
TZOFFSETFROM:+0200
TZOFFSETTO:+0100
TZNAME:CET
DTSTART:20241027T010000
END:STANDARD
END:VTIMEZONE
BEGIN:VEVENT
DTSTART;VALUE=DATE:20240414
DTEND;VALUE=DATE:20240415
DTSTAMP:20260424T110242
CREATED:20231227T142436Z
LAST-MODIFIED:20231227T142436Z
UID:2347-1713052800-1713139199@dutchaikikaifoundation.nl
SUMMARY:Micheline Tissier Shihan 7e dan
DESCRIPTION:Micheline Tissier Shihan 7e dan
URL:https://dutchaikikaifoundation.nl/agenda/micheline-tissier-shihan-7e-dan/
LOCATION:Ruskahal Papendal\, Papendallaan\, Arnhem\, 6816 VD\, Nederland
CATEGORIES:Internationaal stage
ATTACH;FMTTYPE=image/jpeg:https://dutchaikikaifoundation.nl/wp-content/uploads/2023/12/Micheline-Tissier-2024.jpg
END:VEVENT
END:VCALENDAR