BEGIN:VCALENDAR
VERSION:2.0
PRODID:-//Dutch Aikikai Foundation - ECPv4.9.6//NONSGML v1.0//EN
CALSCALE:GREGORIAN
METHOD:PUBLISH
X-WR-CALNAME:Dutch Aikikai Foundation
X-ORIGINAL-URL:https://dutchaikikaifoundation.nl
X-WR-CALDESC:Events for Dutch Aikikai Foundation
BEGIN:VTIMEZONE
TZID:"Europe/Amsterdam"
BEGIN:DAYLIGHT
TZOFFSETFROM:+0100
TZOFFSETTO:+0200
TZNAME:CEST
DTSTART:20240331T010000
END:DAYLIGHT
BEGIN:STANDARD
TZOFFSETFROM:+0200
TZOFFSETTO:+0100
TZNAME:CET
DTSTART:20241027T010000
END:STANDARD
END:VTIMEZONE
BEGIN:VEVENT
DTSTART;VALUE=DATE:20240303
DTEND;VALUE=DATE:20240304
DTSTAMP:20260424T125427
CREATED:20231227T142244Z
LAST-MODIFIED:20231227T142244Z
UID:2344-1709424000-1709510399@dutchaikikaifoundation.nl
SUMMARY:Miyuki Kumazawa 6e dan
DESCRIPTION:Aikido stage o.l.v. Miyuki Kumazawa\, uit Japan. Alle niveau.\nSamenwerking met Renshinkan in Belgium en Aikido Club Luxemburg. \nMiyuki Kumazawa 6e dan
URL:https://dutchaikikaifoundation.nl/agenda/miyuki-kumazawa-6e-dan/
LOCATION:Markengouw\, Markengouw 245A\, Amsterdam\, Noord Holland\, 1024 HK\, Nederland
CATEGORIES:Internationaal stage
ATTACH;FMTTYPE=image/jpeg:https://dutchaikikaifoundation.nl/wp-content/uploads/2023/12/Miyuki-Kumazawa-2024.jpg
END:VEVENT
END:VCALENDAR