BEGIN:VCALENDAR
VERSION:2.0
PRODID:-//Dutch Aikikai Foundation - ECPv4.9.6//NONSGML v1.0//EN
CALSCALE:GREGORIAN
METHOD:PUBLISH
X-WR-CALNAME:Dutch Aikikai Foundation
X-ORIGINAL-URL:https://dutchaikikaifoundation.nl
X-WR-CALDESC:Events for Dutch Aikikai Foundation
BEGIN:VTIMEZONE
TZID:"Europe/Amsterdam"
BEGIN:DAYLIGHT
TZOFFSETFROM:+0100
TZOFFSETTO:+0200
TZNAME:CEST
DTSTART:20180325T010000
END:DAYLIGHT
BEGIN:STANDARD
TZOFFSETFROM:+0200
TZOFFSETTO:+0100
TZNAME:CET
DTSTART:20181028T010000
END:STANDARD
END:VTIMEZONE
BEGIN:VEVENT
DTSTART;TZID="Europe/Amsterdam":20180429T143000
DTEND;TZID="Europe/Amsterdam":20180429T170000
DTSTAMP:20260420T154141
CREATED:20180128T103640Z
LAST-MODIFIED:20180212T150646Z
UID:627-1525012200-1525021200@dutchaikikaifoundation.nl
SUMMARY:Nationale 2e dan voorbereiding (VERPLAATST naar 22 april)
DESCRIPTION: \nOpen pdf bestand \nNationale 2e dan voorbereiding (VERPLAATST naar 22 april)
URL:https://dutchaikikaifoundation.nl/agenda/nationale-2e-dan-voorbereiding-3/
LOCATION:Veemarkt 151\, Veemarkt 151\, Amsterdam\, Noord-Holland\, 1019CC\, Nederland
END:VEVENT
END:VCALENDAR