BEGIN:VCALENDAR
VERSION:2.0
PRODID:-//Dutch Aikikai Foundation - ECPv4.9.6//NONSGML v1.0//EN
CALSCALE:GREGORIAN
METHOD:PUBLISH
X-WR-CALNAME:Dutch Aikikai Foundation
X-ORIGINAL-URL:https://dutchaikikaifoundation.nl
X-WR-CALDESC:Events for Dutch Aikikai Foundation
BEGIN:VTIMEZONE
TZID:"Europe/Amsterdam"
BEGIN:DAYLIGHT
TZOFFSETFROM:+0100
TZOFFSETTO:+0200
TZNAME:CEST
DTSTART:20190331T010000
END:DAYLIGHT
BEGIN:STANDARD
TZOFFSETFROM:+0200
TZOFFSETTO:+0100
TZNAME:CET
DTSTART:20191027T010000
END:STANDARD
END:VTIMEZONE
BEGIN:VEVENT
DTSTART;TZID="Europe/Amsterdam":20190707T100000
DTEND;TZID="Europe/Amsterdam":20190707T150000
DTSTAMP:20260420T171717
CREATED:20190201T134948Z
LAST-MODIFIED:20190201T134948Z
UID:1571-1562493600-1562511600@dutchaikikaifoundation.nl
SUMMARY:Nationale Dangrade training
DESCRIPTION:Maandelijkse training voor yudansha en leraren. Dit keer is in Papendal. De eerste half uur is ken (zwaard). De examen wordt na de training afgenomen. Onder leiding van Wilko Vriesman Shihan\, technisch directeur van de DAF. \nNationale Dangrade training
URL:https://dutchaikikaifoundation.nl/agenda/nationale-dangrade-training-2/
LOCATION:Papendal
CATEGORIES:Nationaal stage
ATTACH;FMTTYPE=image/jpeg:https://dutchaikikaifoundation.nl/wp-content/uploads/2019/02/Yudansha-2019-3.jpg
END:VEVENT
END:VCALENDAR