BEGIN:VCALENDAR
VERSION:2.0
PRODID:-//Dutch Aikikai Foundation - ECPv4.9.6//NONSGML v1.0//EN
CALSCALE:GREGORIAN
METHOD:PUBLISH
X-WR-CALNAME:Dutch Aikikai Foundation
X-ORIGINAL-URL:https://dutchaikikaifoundation.nl
X-WR-CALDESC:Events for Dutch Aikikai Foundation
BEGIN:VTIMEZONE
TZID:"Europe/Amsterdam"
BEGIN:DAYLIGHT
TZOFFSETFROM:+0100
TZOFFSETTO:+0200
TZNAME:CEST
DTSTART:20180325T010000
END:DAYLIGHT
BEGIN:STANDARD
TZOFFSETFROM:+0200
TZOFFSETTO:+0100
TZNAME:CET
DTSTART:20181028T010000
END:STANDARD
END:VTIMEZONE
BEGIN:VEVENT
DTSTART;TZID="Europe/Amsterdam":20180225T100000
DTEND;TZID="Europe/Amsterdam":20180225T123000
DTSTAMP:20260424T045205
CREATED:20180126T103815Z
LAST-MODIFIED:20180201T103230Z
UID:574-1519552800-1519561800@dutchaikikaifoundation.nl
SUMMARY:Nationale Jo stage 2017-2018
DESCRIPTION: \nOpen pdf bestand \nNationale Jo stage 2017-2018
URL:https://dutchaikikaifoundation.nl/agenda/nationale-jo-stage-2017-2018/
LOCATION:Aikido centrum Nijmegen\, Rosa de Limastraat 23\, Nijmegen\, Nederland
END:VEVENT
END:VCALENDAR