BEGIN:VCALENDAR
VERSION:2.0
PRODID:-//Dutch Aikikai Foundation - ECPv4.9.6//NONSGML v1.0//EN
CALSCALE:GREGORIAN
METHOD:PUBLISH
X-WR-CALNAME:Dutch Aikikai Foundation
X-ORIGINAL-URL:https://dutchaikikaifoundation.nl
X-WR-CALDESC:Events for Dutch Aikikai Foundation
BEGIN:VTIMEZONE
TZID:"Europe/Amsterdam"
BEGIN:DAYLIGHT
TZOFFSETFROM:+0100
TZOFFSETTO:+0200
TZNAME:CEST
DTSTART:20180325T010000
END:DAYLIGHT
BEGIN:STANDARD
TZOFFSETFROM:+0200
TZOFFSETTO:+0100
TZNAME:CET
DTSTART:20181028T010000
END:STANDARD
END:VTIMEZONE
BEGIN:VEVENT
DTSTART;TZID="Europe/Amsterdam":20180414T130000
DTEND;TZID="Europe/Amsterdam":20180414T153000
DTSTAMP:20260420T233423
CREATED:20180128T103046Z
LAST-MODIFIED:20180201T101135Z
UID:619-1523710800-1523719800@dutchaikikaifoundation.nl
SUMMARY:Nationale Shodan voorbereiding
DESCRIPTION: \nOpen pdf bestand \nNationale Shodan voorbereiding
URL:https://dutchaikikaifoundation.nl/agenda/nationale-shodan-voorbereiding-3/
LOCATION:Veemarkt 151\, Veemarkt 151\, Amsterdam\, Noord-Holland\, 1019CC\, Nederland
END:VEVENT
END:VCALENDAR