BEGIN:VCALENDAR
VERSION:2.0
PRODID:-//Dutch Aikikai Foundation - ECPv4.9.6//NONSGML v1.0//EN
CALSCALE:GREGORIAN
METHOD:PUBLISH
X-WR-CALNAME:Dutch Aikikai Foundation
X-ORIGINAL-URL:https://dutchaikikaifoundation.nl
X-WR-CALDESC:Events for Dutch Aikikai Foundation
BEGIN:VTIMEZONE
TZID:"Europe/Amsterdam"
BEGIN:DAYLIGHT
TZOFFSETFROM:+0100
TZOFFSETTO:+0200
TZNAME:CEST
DTSTART:20200329T010000
END:DAYLIGHT
BEGIN:STANDARD
TZOFFSETFROM:+0200
TZOFFSETTO:+0100
TZNAME:CET
DTSTART:20201025T010000
END:STANDARD
END:VTIMEZONE
BEGIN:VEVENT
DTSTART;TZID="Europe/Amsterdam":20200920T130000
DTEND;TZID="Europe/Amsterdam":20200920T160000
DTSTAMP:20260419T174018
CREATED:20200824T123739Z
LAST-MODIFIED:20200824T123739Z
UID:1837-1600606800-1600617600@dutchaikikaifoundation.nl
SUMMARY:Nationale Sportweekstage 2020
DESCRIPTION:Aikido Dronten organiseert de Nationale Sportweekstage 2020 o.l.v. \nSachien Raghoe 6e Dan aikikai –  lijn Tissier \nop zondag 20 september 2020. \nTijd:       13:00 – 16:00 \n13:00 – 14:00 Bokken (Alleen volwassenen) \n14:00 – 16:00 Aiki       (Kinderen en volwassenen) \nLocatie: Sportzaal De Stal\, Barrage 6-8 8252 GW\, Dronten \nKosten:  Leden € 10\,= | Niet leden € 15\,= | Kinderen gratis \nNationale Sportweekstage 2020
URL:https://dutchaikikaifoundation.nl/agenda/nationale-sportweekstage-2020/
LOCATION:Aikido Dronten\, Barrage 6\, Dronten\, Nederland
CATEGORIES:Nationaal stage
ATTACH;FMTTYPE=image/jpeg:https://dutchaikikaifoundation.nl/wp-content/uploads/2020/08/Sachien-met-Peter-1.jpg
ORGANIZER;CN="Harrie%20Sparendam":MAILTO:aikikidsdronten@gmail.com
END:VEVENT
END:VCALENDAR