BEGIN:VCALENDAR
VERSION:2.0
PRODID:-//Dutch Aikikai Foundation - ECPv4.9.6//NONSGML v1.0//EN
CALSCALE:GREGORIAN
METHOD:PUBLISH
X-WR-CALNAME:Dutch Aikikai Foundation
X-ORIGINAL-URL:https://dutchaikikaifoundation.nl
X-WR-CALDESC:Events for Dutch Aikikai Foundation
BEGIN:VTIMEZONE
TZID:"Europe/Amsterdam"
BEGIN:DAYLIGHT
TZOFFSETFROM:+0100
TZOFFSETTO:+0200
TZNAME:CEST
DTSTART:20180325T010000
END:DAYLIGHT
BEGIN:STANDARD
TZOFFSETFROM:+0200
TZOFFSETTO:+0100
TZNAME:CET
DTSTART:20181028T010000
END:STANDARD
END:VTIMEZONE
BEGIN:VEVENT
DTSTART;TZID="Europe/Amsterdam":20180519T130000
DTEND;TZID="Europe/Amsterdam":20180519T153000
DTSTAMP:20260420T141414
CREATED:20180128T103815Z
LAST-MODIFIED:20180128T103815Z
UID:629-1526734800-1526743800@dutchaikikaifoundation.nl
SUMMARY:Pinksterstage olv Wilko Vriesman
DESCRIPTION:Pinksterstage olv Wilko Vriesman
URL:https://dutchaikikaifoundation.nl/agenda/pinksterstage-olv-wilko-vriesman/
LOCATION:Veemarkt 151\, Veemarkt 151\, Amsterdam\, Noord-Holland\, 1019CC\, Nederland
END:VEVENT
END:VCALENDAR