BEGIN:VCALENDAR
VERSION:2.0
PRODID:-//Dutch Aikikai Foundation - ECPv4.9.6//NONSGML v1.0//EN
CALSCALE:GREGORIAN
METHOD:PUBLISH
X-WR-CALNAME:Dutch Aikikai Foundation
X-ORIGINAL-URL:https://dutchaikikaifoundation.nl
X-WR-CALDESC:Events for Dutch Aikikai Foundation
BEGIN:VTIMEZONE
TZID:"Europe/Amsterdam"
BEGIN:DAYLIGHT
TZOFFSETFROM:+0100
TZOFFSETTO:+0200
TZNAME:CEST
DTSTART:20210328T010000
END:DAYLIGHT
BEGIN:STANDARD
TZOFFSETFROM:+0200
TZOFFSETTO:+0100
TZNAME:CET
DTSTART:20211031T010000
END:STANDARD
END:VTIMEZONE
BEGIN:VEVENT
DTSTART;TZID="Europe/Amsterdam":20210116T120000
DTEND;TZID="Europe/Amsterdam":20210116T143000
DTSTAMP:20260424T095818
CREATED:20201122T105251Z
LAST-MODIFIED:20201122T105351Z
UID:1870-1610798400-1610807400@dutchaikikaifoundation.nl
SUMMARY:Shodan en hogere kyugraden training
DESCRIPTION:Landelijke technische training onder leiding van Satomi Ishikawa (5e dan).\nDe focus van deze maandelijkse training ligt op structuur en zuiverheid van basis technieken\, die men nodig heeft voor examens. Tijdens de stage trainen shodan kandidaten ook op: correcte entree\, uitvoering van de basis technieken en oefening van alle gevraagde technieken voor de shodan examen\, gecombineerd met het werken aan de conditie en de presentatie.\nSimpel wapen technieken worden ook geoefend. Neem tanto en bokken mee.\nTijden: 12.00 -14.30\nKosten: 20 euro\nShodan en hogere kyugraden training
URL:https://dutchaikikaifoundation.nl/agenda/shodan-en-hogere-kyugraden-training-2/
LOCATION:Caland dojo\, Eliza van Calcarstraat 2\, Amsterdam\, Noord Holland\, 1068 RR\, Nederland
CATEGORIES:Nationaal stage
END:VEVENT
END:VCALENDAR