BEGIN:VCALENDAR
VERSION:2.0
PRODID:-//Dutch Aikikai Foundation - ECPv4.9.6//NONSGML v1.0//EN
CALSCALE:GREGORIAN
METHOD:PUBLISH
X-WR-CALNAME:Dutch Aikikai Foundation
X-ORIGINAL-URL:https://dutchaikikaifoundation.nl
X-WR-CALDESC:Events for Dutch Aikikai Foundation
BEGIN:VTIMEZONE
TZID:"Europe/Amsterdam"
BEGIN:DAYLIGHT
TZOFFSETFROM:+0100
TZOFFSETTO:+0200
TZNAME:CEST
DTSTART:20200329T010000
END:DAYLIGHT
BEGIN:STANDARD
TZOFFSETFROM:+0200
TZOFFSETTO:+0100
TZNAME:CET
DTSTART:20201025T010000
END:STANDARD
END:VTIMEZONE
BEGIN:VEVENT
DTSTART;TZID="Europe/Amsterdam":20201129T100000
DTEND;TZID="Europe/Amsterdam":20201129T123000
DTSTAMP:20260420T080550
CREATED:20200916T063036Z
LAST-MODIFIED:20200916T063036Z
UID:1845-1606644000-1606653000@dutchaikikaifoundation.nl
SUMMARY:Stage Marc Jongsten in Vught
DESCRIPTION:Stage van Marc Jongsten Sensei in Vught in de dojo van Rob Jans. Alle niveaus zijn welkom in onze prachtige dojo op zondag 29 november \n  \nStage Marc Jongsten in Vught
URL:https://dutchaikikaifoundation.nl/agenda/stage-marc-jongsten-in-vught/
LOCATION:Bushin Dojo Aikido Vught\, Deken van oss-straat 1\, Vught\, Noord-Brabant\, 5261 BK
CATEGORIES:Regionaal stage
ATTACH;FMTTYPE=image/png:https://dutchaikikaifoundation.nl/wp-content/uploads/2020/08/marc-poster-november-1.png
ORGANIZER;CN="Marc%20Jongsten":MAILTO:m.jongsten@gmail.com
END:VEVENT
END:VCALENDAR